BEGIN:VCALENDAR
VERSION:2.0
PRODID:concerti//https://www.concerti.de
CALSCALE:GREGORIAN
BEGIN:VTIMEZONE
TZID:Europe/Berlin
X-LIC-LOCATION:Europe/Berlin
BEGIN:DAYLIGHT
TZOFFSETFROM:+0100
TZOFFSETTO:+0200
TZNAME:CEST
DTSTART:19700329T020000
RRULE:FREQ=YEARLY;BYMONTH=3;BYDAY=-1SU
END:DAYLIGHT
BEGIN:STANDARD
TZOFFSETFROM:+0200
TZOFFSETTO:+0100
TZNAME:CET
DTSTART:19701025T030000
RRULE:FREQ=YEARLY;BYMONTH=10;BYDAY=-1SU
END:STANDARD
END:VTIMEZONE
BEGIN:VEVENT
UID:073a327e2abf2d89cf2ec8072b680677
SUMMARY:Lukas Sternath (Klavier)
URL:https://www.concerti.de/termine/veronika-eberle-violine-julia-hagen-violoncello-lukas-sternath-klavier-wiener-musikverein-684999/
DTSTART;TZID=Europe/Berlin:20260609T193000
DTEND;TZID=Europe/Berlin:20260609T213000
DESCRIPTION:Interpreten: Lukas Sternath (Klavier) \nProgramm: Schubert: Klaviersonate A-Dur D 959\, Liszt: Funérailles aus „Harmonies poétiques et relegieuses“\, Prokofjew: Klaviersonate Nr. 8 B-Dur op. 84 \nhttps://www.concerti.de/termine/veronika-eberle-violine-julia-hagen-violoncello-lukas-sternath-klavier-wiener-musikverein-684999/
LOCATION:Wiener Musikverein\, Musikvereinspl. 1\, 1010 Wien
END:VEVENT
END:VCALENDAR