BEGIN:VCALENDAR
VERSION:2.0
PRODID:concerti//https://www.concerti.de
CALSCALE:GREGORIAN
BEGIN:VTIMEZONE
TZID:Europe/Berlin
X-LIC-LOCATION:Europe/Berlin
BEGIN:DAYLIGHT
TZOFFSETFROM:+0100
TZOFFSETTO:+0200
TZNAME:CEST
DTSTART:19700329T020000
RRULE:FREQ=YEARLY;BYMONTH=3;BYDAY=-1SU
END:DAYLIGHT
BEGIN:STANDARD
TZOFFSETFROM:+0200
TZOFFSETTO:+0100
TZNAME:CET
DTSTART:19701025T030000
RRULE:FREQ=YEARLY;BYMONTH=10;BYDAY=-1SU
END:STANDARD
END:VTIMEZONE
BEGIN:VEVENT
UID:f5c54448c0b9cb6676aea3dd5990b39e
SUMMARY:Antoine Tamestit (Viola), Bertrand Chamayou (Klavier) - Musikverein Festival: Beethovens Spazierstock
URL:https://www.concerti.de/termine/antoine-tamestit-viola-bertrand-chamayou-klavier-wiener-musikverein-685273/
DTSTART;TZID=Europe/Berlin:20260501T193000
DTEND;TZID=Europe/Berlin:20260501T213000
DESCRIPTION:Interpreten: Antoine Tamestit (Viola)\, Bertrand Chamayou (Klavier) \nProgramm: Berlioz/Liszt: Sinfonie op. 16 „Harold in Italien“\, Liszt: Romance oubilée\, Schostakowitsch: Violasonate C-Dur op. 147 \nhttps://www.concerti.de/termine/antoine-tamestit-viola-bertrand-chamayou-klavier-wiener-musikverein-685273/
LOCATION:Wiener Musikverein\, Musikvereinspl. 1\, 1010 Wien
END:VEVENT
END:VCALENDAR