BEGIN:VCALENDAR
VERSION:2.0
PRODID:concerti//https://www.concerti.de
CALSCALE:GREGORIAN
BEGIN:VTIMEZONE
TZID:Europe/Berlin
X-LIC-LOCATION:Europe/Berlin
BEGIN:DAYLIGHT
TZOFFSETFROM:+0100
TZOFFSETTO:+0200
TZNAME:CEST
DTSTART:19700329T020000
RRULE:FREQ=YEARLY;BYMONTH=3;BYDAY=-1SU
END:DAYLIGHT
BEGIN:STANDARD
TZOFFSETFROM:+0200
TZOFFSETTO:+0100
TZNAME:CET
DTSTART:19701025T030000
RRULE:FREQ=YEARLY;BYMONTH=10;BYDAY=-1SU
END:STANDARD
END:VTIMEZONE
BEGIN:VEVENT
UID:41855594eabda2cf78a81724e499c98d
SUMMARY:Andreas Mader (Saxofon), Joseph Moog (Klavier) - Musikverein Festival: Beethovens Spazierstock
URL:https://www.concerti.de/termine/andreas-mader-saxofon-joseph-moog-klavier-wiener-musikverein-685266/
DTSTART;TZID=Europe/Berlin:20260429T200000
DTEND;TZID=Europe/Berlin:20260429T220000
DESCRIPTION:Interpreten: Andreas Mader (Saxofon)\, Joseph Moog (Klavier) \nProgramm: Werke von Debussy\, Prokofjew\, Auerbach\, L. Boulanger\, Gershwin\, Milhaud & Jean Françaix \nhttps://www.concerti.de/termine/andreas-mader-saxofon-joseph-moog-klavier-wiener-musikverein-685266/
LOCATION:Wiener Musikverein\, Musikvereinspl. 1\, 1010 Wien
END:VEVENT
END:VCALENDAR