BEGIN:VCALENDAR
VERSION:2.0
PRODID:concerti//https://www.concerti.de
CALSCALE:GREGORIAN
BEGIN:VTIMEZONE
TZID:Europe/Berlin
X-LIC-LOCATION:Europe/Berlin
BEGIN:DAYLIGHT
TZOFFSETFROM:+0100
TZOFFSETTO:+0200
TZNAME:CEST
DTSTART:19700329T020000
RRULE:FREQ=YEARLY;BYMONTH=3;BYDAY=-1SU
END:DAYLIGHT
BEGIN:STANDARD
TZOFFSETFROM:+0200
TZOFFSETTO:+0100
TZNAME:CET
DTSTART:19701025T030000
RRULE:FREQ=YEARLY;BYMONTH=10;BYDAY=-1SU
END:STANDARD
END:VTIMEZONE
BEGIN:VEVENT
UID:04003a92f397fec96c1b63f177bb36a2
SUMMARY:Kirill Gerstein (Klavier), Wiener Symphoniker, Santtu-Matias Rouvali (Leitung) - Musikverein Festival: Beethovens Spazierstock, Musikverein Festival: Kult! Beethovens Sargschlüssel
URL:https://www.concerti.de/termine/kirill-gerstein-klavier-wiener-symphoniker-santtu-matias-rouvali-leitung-wiener-musikverein-685262/
DTSTART;TZID=Europe/Berlin:20260429T193000
DTEND;TZID=Europe/Berlin:20260429T213000
DESCRIPTION:Interpreten: Kirill Gerstein (Klavier)\, Wiener Symphoniker\, Santtu-Matias Rouvali (Leitung)\, Kirill Gerstein (Klavier) \nProgramm: Bernstein: Drei Tanzszenen aus „On the Town“\, Rachmaninow: Rhapsodie über ein Thema von Paganini op. 43\, Gershwin: Rhapsody in Blue & An American in Paris \nhttps://www.concerti.de/termine/kirill-gerstein-klavier-wiener-symphoniker-santtu-matias-rouvali-leitung-wiener-musikverein-685262/
LOCATION:Wiener Musikverein\, Musikvereinspl. 1\, 1010 Wien
END:VEVENT
END:VCALENDAR