BEGIN:VCALENDAR
VERSION:2.0
PRODID:concerti//https://www.concerti.de
CALSCALE:GREGORIAN
BEGIN:VTIMEZONE
TZID:Europe/Berlin
X-LIC-LOCATION:Europe/Berlin
BEGIN:DAYLIGHT
TZOFFSETFROM:+0100
TZOFFSETTO:+0200
TZNAME:CEST
DTSTART:19700329T020000
RRULE:FREQ=YEARLY;BYMONTH=3;BYDAY=-1SU
END:DAYLIGHT
BEGIN:STANDARD
TZOFFSETFROM:+0200
TZOFFSETTO:+0100
TZNAME:CET
DTSTART:19701025T030000
RRULE:FREQ=YEARLY;BYMONTH=10;BYDAY=-1SU
END:STANDARD
END:VTIMEZONE
BEGIN:VEVENT
UID:9a3e71d0aa42b49b1d06efd1552d5f30
SUMMARY:Gautier Capuçon (Violoncello), Kammerorchester Wien &#8211; Berlin, Rainer Honeck (Violine &amp; Leitung) - Musikverein Festival: Beethovens Spazierstock
URL:https://www.concerti.de/termine/gautier-capucon-violoncello-kammerorchester-wien-berlin-rainer-honeck-violine-leitung-wiener-musikverein-685238/
DTSTART;TZID=Europe/Berlin:20260423T193000
DTEND;TZID=Europe/Berlin:20260423T213000
DESCRIPTION:Interpreten: Gautier Capuçon (Violoncello)\, Kammerorchester Wien - Berlin\, Rainer Honeck (Violine & Leitung) \nProgramm: Haydn: Sinfonie A-Dur Hob. I:59 „Feuer-Sinfonie“ & Cellokonzert C-Dur Hob. VIIb:1\, Tschaikowsky: Souvenir de Florence op. 70 \nhttps://www.concerti.de/termine/gautier-capucon-violoncello-kammerorchester-wien-berlin-rainer-honeck-violine-leitung-wiener-musikverein-685238/
LOCATION:Wiener Musikverein\, Musikvereinspl. 1\, 1010 Wien
END:VEVENT
END:VCALENDAR