BEGIN:VCALENDAR
VERSION:2.0
PRODID:concerti//https://www.concerti.de
CALSCALE:GREGORIAN
BEGIN:VTIMEZONE
TZID:Europe/Berlin
X-LIC-LOCATION:Europe/Berlin
BEGIN:DAYLIGHT
TZOFFSETFROM:+0100
TZOFFSETTO:+0200
TZNAME:CEST
DTSTART:19700329T020000
RRULE:FREQ=YEARLY;BYMONTH=3;BYDAY=-1SU
END:DAYLIGHT
BEGIN:STANDARD
TZOFFSETFROM:+0200
TZOFFSETTO:+0100
TZNAME:CET
DTSTART:19701025T030000
RRULE:FREQ=YEARLY;BYMONTH=10;BYDAY=-1SU
END:STANDARD
END:VTIMEZONE
BEGIN:VEVENT
UID:02f42de0db1c14856ee823189e90c6fa
SUMMARY:Best of
URL:https://www.concerti.de/termine/best-of-the-final-nightmare-music-brucknerhaus-linz-680990/
DTSTART;TZID=Europe/Berlin:20260714T200000
DTEND;TZID=Europe/Berlin:20260714T220000
DESCRIPTION:Interpreten: Neue Wiener Concert Schrammeln \nhttps://www.concerti.de/termine/best-of-the-final-nightmare-music-brucknerhaus-linz-680990/
LOCATION:Landhaus\, Linz
END:VEVENT
END:VCALENDAR