BEGIN:VCALENDAR
VERSION:2.0
PRODID:concerti//https://www.concerti.de
CALSCALE:GREGORIAN
BEGIN:VTIMEZONE
TZID:Europe/Berlin
X-LIC-LOCATION:Europe/Berlin
BEGIN:DAYLIGHT
TZOFFSETFROM:+0100
TZOFFSETTO:+0200
TZNAME:CEST
DTSTART:19700329T020000
RRULE:FREQ=YEARLY;BYMONTH=3;BYDAY=-1SU
END:DAYLIGHT
BEGIN:STANDARD
TZOFFSETFROM:+0200
TZOFFSETTO:+0100
TZNAME:CET
DTSTART:19701025T030000
RRULE:FREQ=YEARLY;BYMONTH=10;BYDAY=-1SU
END:STANDARD
END:VTIMEZONE
BEGIN:VEVENT
UID:4669deb3ac768c071760642ce84a0616
SUMMARY:Lazar: Ein Sommernachtstraum
URL:https://www.concerti.de/termine/lazar-ein-sommernachtstraum-deutsche-oper-360673/
DTSTART;TZID=Europe/Berlin:20260710T193000
DTEND;TZID=Europe/Berlin:20260710T213000
DESCRIPTION:Es gibt literarische Stoffe\, von denen weiß man\, dass man sie noch in tausend Jahren immer wieder neu entdecken kann. Shakespeares „Ein Sommernachtstraum“ ist so ein Stoff. Seit ihrer Entstehung Ende des 16. Jahrhunderts diente die Komödie\, die auf einzigartige Weise Humor\, Leidenschaft\, Dramatik und Magie eint\, etlichen künstlerischen Schöpfungen als Vorbild. Von den insgesamt über 1700 existierenden „Sommernachts­traum“-Kompositionen ist jene von Felix Mendelssohn wohl die populärste. Eine weitere wiederum wird nun in Berlin uraufgeführt: Der slowenische Komponist Milko Lazar hat den märchenhaften Shakespeare-Klassiker mit einer gänzlich neuen Musik versehen. Deren Klänge wandelt nun Edward Clug\, Ballettdirektor des slowenischen Nationaltheaters [&hellip\;] \nInterpreten: Orchester der Deutschen Oper Berlin\, Victorien Vanoosten (Leitung)\, Edward Clug (Choreografie) \nhttps://www.concerti.de/termine/lazar-ein-sommernachtstraum-deutsche-oper-360673/
LOCATION:Deutsche Oper Berlin\, Bismarckstr. 35\, 10627 Berlin
END:VEVENT
END:VCALENDAR